BEGIN:VCALENDAR
VERSION:2.0
PRODID:-//Tukios.com/
BEGIN:VEVENT
UID:90fe5728-7ff4-4a0b-8693-83f556fa30cf@www.chismsmithfuneralhome.com
DTSTAMP:20260422T220431Z
DTSTART:20260427T200000Z
DTEND:20260428T000000Z
SUMMARY:Visitation for Kevin Lee Cox
DESCRIPTION:
URL:https://www.chismsmithfuneralhome.com/obituaries/kevin-cox
LOCATION:Chism-Smith Funeral Home 403 South Britain Road  Irving TX 75060
GEO:32.8103781;-96.9426698
END:VEVENT
END:VCALENDAR